BEGIN:VCALENDAR
VERSION:2.0
PRODID:-//Peter Uba Foundation - ECPv6.10.1.1//NONSGML v1.0//EN
CALSCALE:GREGORIAN
METHOD:PUBLISH
X-WR-CALNAME:Peter Uba Foundation
X-ORIGINAL-URL:https://peterubafoundation.org
X-WR-CALDESC:Events for Peter Uba Foundation
REFRESH-INTERVAL;VALUE=DURATION:PT1H
X-Robots-Tag:noindex
X-PUBLISHED-TTL:PT1H
BEGIN:VTIMEZONE
TZID:UTC
BEGIN:STANDARD
TZOFFSETFROM:+0000
TZOFFSETTO:+0000
TZNAME:UTC
DTSTART:20210101T000000
END:STANDARD
END:VTIMEZONE
BEGIN:VEVENT
DTSTART;TZID=UTC:20211229T080000
DTEND;TZID=UTC:20211229T220000
DTSTAMP:20260419T185518
CREATED:20200529T091446Z
LAST-MODIFIED:20220208T022848Z
UID:361-1640764800-1640815200@peterubafoundation.org
SUMMARY:The Peter Uba Foundation Children's Outreach Program
DESCRIPTION:Join us as we once again celebrate our Annual Children’s Outreach Program Holiday Festivities.\nWatch our children’s dance program\, eat relax and celebrate with us.
URL:https://peterubafoundation.org/event/presentation/
LOCATION:GA
CATEGORIES:Donations
ATTACH;FMTTYPE=image/jpeg:https://peterubafoundation.org/wp-content/uploads/2020/05/ng2.jpeg
ORGANIZER;CN="Nicdark":MAILTO:email@gmail.com
END:VEVENT
END:VCALENDAR